 BEGIN:VCALENDAR
VERSION:1.0
PRODID:SSPCA Web Calendar
TZ:-07
BEGIN:VEVENT
ORGANIZER:MAILTO: helen.du@ubmsinoexpo.com;jade.liao@ubmsinoexpo.com
SUMMARY;ENCODING=QUOTED-PRINTABLE: HDE 2020 - The 8th Shanghai Hospitality Design & Supplies Expo
LOCATION;ENCODING=QUOTED-PRINTABLE: Shanghai
DESCRIPTION;ENCODING=QUOTED-PRINTABLE: More Details£º=0D=0A
DTSTART:20200812T000000Z 
DTEND:20200814T000000Z 
END:VEVENT
END:VCALENDAR