 BEGIN:VCALENDAR
VERSION:1.0
PRODID:SSPCA Web Calendar
TZ:-07
BEGIN:VEVENT
ORGANIZER:MAILTO: info@reedexpo.com.cn
SUMMARY;ENCODING=QUOTED-PRINTABLE: SinoCorrugated South 2020
LOCATION;ENCODING=QUOTED-PRINTABLE: Dongguan
DESCRIPTION;ENCODING=QUOTED-PRINTABLE: More Details£º=0D=0Ahttp://www.chinaexhibition.com/trade_events/9973-SinoCorrugated_South_2020.html
DTSTART:20200722T000000Z 
DTEND:20200724T000000Z 
END:VEVENT
END:VCALENDAR