 BEGIN:VCALENDAR
VERSION:1.0
PRODID:SSPCA Web Calendar
TZ:-07
BEGIN:VEVENT
ORGANIZER:MAILTO: chpe.visitor@ite-gehua.com
SUMMARY;ENCODING=QUOTED-PRINTABLE: CHPE 2020 - The 15th China International Hosiery Purchasing Expo
LOCATION;ENCODING=QUOTED-PRINTABLE: Shanghai
DESCRIPTION;ENCODING=QUOTED-PRINTABLE: More Details£º=0D=0A
DTSTART:20200302T000000Z 
DTEND:20200304T000000Z 
END:VEVENT
END:VCALENDAR