 BEGIN:VCALENDAR
VERSION:1.0
PRODID:SSPCA Web Calendar
TZ:-07
BEGIN:VEVENT
ORGANIZER:MAILTO: emma.ruan@imsinoexpo.com
SUMMARY;ENCODING=QUOTED-PRINTABLE: Fi Guangzhou 2019 - Food Ingredients (Fi) Guangzhou 2019
LOCATION;ENCODING=QUOTED-PRINTABLE: Guangzhou
DESCRIPTION;ENCODING=QUOTED-PRINTABLE: More Details£º=0D=0A
DTSTART:20191212T000000Z 
DTEND:20191214T000000Z 
END:VEVENT
END:VCALENDAR