 BEGIN:VCALENDAR
VERSION:1.0
PRODID:SSPCA Web Calendar
TZ:-07
BEGIN:VEVENT
ORGANIZER:MAILTO: flora.chan@hongkong.messefrankfurt.com;cherry.cheung@hongkong.messefrankfurt.com
SUMMARY;ENCODING=QUOTED-PRINTABLE: Automechanika Shanghai 2019
LOCATION;ENCODING=QUOTED-PRINTABLE: Shanghai
DESCRIPTION;ENCODING=QUOTED-PRINTABLE: More Details£º=0D=0Ahttp://www.chinaexhibition.com/trade_events/9933-Automechanika_Shanghai_2019.html
DTSTART:20191203T000000Z 
DTEND:20191206T000000Z 
END:VEVENT
END:VCALENDAR