 BEGIN:VCALENDAR
VERSION:1.0
PRODID:SSPCA Web Calendar
TZ:-07
BEGIN:VEVENT
ORGANIZER:MAILTO: jody_cai@tjpa-china.org;rose_yan@tjpa-china.org
SUMMARY;ENCODING=QUOTED-PRINTABLE: CPE 2019 - China International Preschool Expo 2019
LOCATION;ENCODING=QUOTED-PRINTABLE: Shanghai
DESCRIPTION;ENCODING=QUOTED-PRINTABLE: More Details£º=0D=0A
DTSTART:20191016T000000Z 
DTEND:20191018T000000Z 
END:VEVENT
END:VCALENDAR