 BEGIN:VCALENDAR
VERSION:1.0
PRODID:SSPCA Web Calendar
TZ:-07
BEGIN:VEVENT
ORGANIZER:MAILTO: liuding@chgie.com
SUMMARY;ENCODING=QUOTED-PRINTABLE: CIPS 2019 - The 23rd China International Pet Show
LOCATION;ENCODING=QUOTED-PRINTABLE: Shanghai
DESCRIPTION;ENCODING=QUOTED-PRINTABLE: More Details£º=0D=0A
DTSTART:20191120T000000Z 
DTEND:20191123T000000Z 
END:VEVENT
END:VCALENDAR