 BEGIN:VCALENDAR
VERSION:1.0
PRODID:SSPCA Web Calendar
TZ:-07
BEGIN:VEVENT
ORGANIZER:MAILTO: light@china.messefrankfurt.com
SUMMARY;ENCODING=QUOTED-PRINTABLE: GILE 2019 - The 24th Guangzhou International Lighting Exhibition 2019
LOCATION;ENCODING=QUOTED-PRINTABLE: Guangzhou
DESCRIPTION;ENCODING=QUOTED-PRINTABLE: More Details£º=0D=0A
DTSTART:20190609T000000Z 
DTEND:20190612T000000Z 
END:VEVENT
END:VCALENDAR