 BEGIN:VCALENDAR
VERSION:1.0
PRODID:SSPCA Web Calendar
TZ:-07
BEGIN:VEVENT
ORGANIZER:MAILTO: diana.wang@reedexpo.com.cn
SUMMARY;ENCODING=QUOTED-PRINTABLE: ALUMINIUM CHINA 2019
LOCATION;ENCODING=QUOTED-PRINTABLE: Shanghai
DESCRIPTION;ENCODING=QUOTED-PRINTABLE: More Details£º=0D=0Ahttp://www.chinaexhibition.com/trade_events/9769-ALUMINIUM_CHINA_2019.html
DTSTART:20190710T000000Z 
DTEND:20190712T000000Z 
END:VEVENT
END:VCALENDAR