 BEGIN:VCALENDAR
VERSION:1.0
PRODID:SSPCA Web Calendar
TZ:-07
BEGIN:VEVENT
ORGANIZER:MAILTO: sinoceszl@sinoces.com; marketing@sinoces.com
SUMMARY;ENCODING=QUOTED-PRINTABLE: China International Consumer Electronics Show (SINOCES 2012)
LOCATION;ENCODING=QUOTED-PRINTABLE: Qingdao
DESCRIPTION;ENCODING=QUOTED-PRINTABLE: More Details£º=0D=0A
DTSTART:20120705T000000Z 
DTEND:20120708T000000Z 
END:VEVENT
END:VCALENDAR