 BEGIN:VCALENDAR
VERSION:1.0
PRODID:SSPCA Web Calendar
TZ:-07
BEGIN:VEVENT
ORGANIZER:MAILTO: info@qgtjh.com
SUMMARY;ENCODING=QUOTED-PRINTABLE: CFDF 2018 - The 99th China (Changsha) Food and Drinks Fair 2018
LOCATION;ENCODING=QUOTED-PRINTABLE: Changsha
DESCRIPTION;ENCODING=QUOTED-PRINTABLE: More Details£º=0D=0A
DTSTART:20181025T000000Z 
DTEND:20181027T000000Z 
END:VEVENT
END:VCALENDAR