 BEGIN:VCALENDAR
VERSION:1.0
PRODID:SSPCA Web Calendar
TZ:-07
BEGIN:VEVENT
ORGANIZER:MAILTO: maqun@ceac.com.cn;cefinfo@ceac.com.cn;exhibitions@ceac.com.cn
SUMMARY;ENCODING=QUOTED-PRINTABLE: CEF West 2018 - China Electronics Fair West 2018
LOCATION;ENCODING=QUOTED-PRINTABLE: Chengdu
DESCRIPTION;ENCODING=QUOTED-PRINTABLE: More Details£º=0D=0A
DTSTART:20180710T000000Z 
DTEND:20180712T000000Z 
END:VEVENT
END:VCALENDAR