 BEGIN:VCALENDAR
VERSION:1.0
PRODID:SSPCA Web Calendar
TZ:-07
BEGIN:VEVENT
ORGANIZER:MAILTO: cs@mega-show.com
SUMMARY;ENCODING=QUOTED-PRINTABLE: Mega Show 2018 Part 1
LOCATION;ENCODING=QUOTED-PRINTABLE: Hong Kong
DESCRIPTION;ENCODING=QUOTED-PRINTABLE: More Details£º=0D=0Ahttp://www.chinaexhibition.com/trade_events/9706-Mega_Show_2018_Part_1.html
DTSTART:20181020T000000Z 
DTEND:20181023T000000Z 
END:VEVENT
END:VCALENDAR