 BEGIN:VCALENDAR
VERSION:1.0
PRODID:SSPCA Web Calendar
TZ:-07
BEGIN:VEVENT
ORGANIZER:MAILTO: teo.fu@china.messefrankfurt.com
SUMMARY;ENCODING=QUOTED-PRINTABLE: SSHT 2018 - Shanghai Smart Home Technology 2018
LOCATION;ENCODING=QUOTED-PRINTABLE: Shanghai
DESCRIPTION;ENCODING=QUOTED-PRINTABLE: More Details£º=0D=0A
DTSTART:20180903T000000Z 
DTEND:20180905T000000Z 
END:VEVENT
END:VCALENDAR