 BEGIN:VCALENDAR
VERSION:1.0
PRODID:SSPCA Web Calendar
TZ:-07
BEGIN:VEVENT
ORGANIZER:MAILTO: 691199523@qq.com
SUMMARY;ENCODING=QUOTED-PRINTABLE: ESBUILD 2018 - Green Architecture and Construction Materials Expo 2018
LOCATION;ENCODING=QUOTED-PRINTABLE: Shanghai
DESCRIPTION;ENCODING=QUOTED-PRINTABLE: More Details£º=0D=0A
DTSTART:20180718T000000Z 
DTEND:20180720T000000Z 
END:VEVENT
END:VCALENDAR