 BEGIN:VCALENDAR
VERSION:1.0
PRODID:SSPCA Web Calendar
TZ:-07
BEGIN:VEVENT
ORGANIZER:MAILTO: Judie.liu@reedexpo.com.cn
SUMMARY;ENCODING=QUOTED-PRINTABLE: SinoFolding 2012
LOCATION;ENCODING=QUOTED-PRINTABLE: Dongguan
DESCRIPTION;ENCODING=QUOTED-PRINTABLE: More Details£º=0D=0Ahttp://www.chinaexhibition.com/trade_events/968-SinoFolding_2012.html
DTSTART:20120411T000000Z 
DTEND:20120413T000000Z 
END:VEVENT
END:VCALENDAR