 BEGIN:VCALENDAR
VERSION:1.0
PRODID:SSPCA Web Calendar
TZ:-07
BEGIN:VEVENT
ORGANIZER:MAILTO: fair@donnor.com
SUMMARY;ENCODING=QUOTED-PRINTABLE: 7th Wenzhou International Surface Finishing and Environmental Protection Technology Exhibition (WSF 2012)
LOCATION;ENCODING=QUOTED-PRINTABLE: Wenzhou
DESCRIPTION;ENCODING=QUOTED-PRINTABLE: More Details£º=0D=0A
DTSTART:20120710T000000Z 
DTEND:20120712T000000Z 
END:VEVENT
END:VCALENDAR