 BEGIN:VCALENDAR
VERSION:1.0
PRODID:SSPCA Web Calendar
TZ:-07
BEGIN:VEVENT
ORGANIZER:MAILTO: info@donnor.com
SUMMARY;ENCODING=QUOTED-PRINTABLE: 10th China (Wenzhou) International Optics Fair
LOCATION;ENCODING=QUOTED-PRINTABLE: Wenzhou
DESCRIPTION;ENCODING=QUOTED-PRINTABLE: More Details£º=0D=0Ahttp://www.chinaexhibition.com/trade_events/966-10th_China_(Wenzhou)_International_Optics_Fair.html
DTSTART:20120710T000000Z 
DTEND:20120712T000000Z 
END:VEVENT
END:VCALENDAR