 BEGIN:VCALENDAR
VERSION:1.0
PRODID:SSPCA Web Calendar
TZ:-07
BEGIN:VEVENT
ORGANIZER:MAILTO: zhanghj@chgie.com
SUMMARY;ENCODING=QUOTED-PRINTABLE: CIPS 2018 - The 22nd China International Pet Show
LOCATION;ENCODING=QUOTED-PRINTABLE: Guangzhou
DESCRIPTION;ENCODING=QUOTED-PRINTABLE: More Details£º=0D=0A
DTSTART:20180927T000000Z 
DTEND:20180930T000000Z 
END:VEVENT
END:VCALENDAR