 BEGIN:VCALENDAR
VERSION:1.0
PRODID:SSPCA Web Calendar
TZ:-07
BEGIN:VEVENT
ORGANIZER:MAILTO: visitjgf-hk@ubm.com 
SUMMARY;ENCODING=QUOTED-PRINTABLE: September Hong Kong Jewellery & Gem Fair 2018 (AsiaWorld-Expo)
LOCATION;ENCODING=QUOTED-PRINTABLE: Hong Kong
DESCRIPTION;ENCODING=QUOTED-PRINTABLE: More Details£º=0D=0A
DTSTART:20180912T000000Z 
DTEND:20180916T000000Z 
END:VEVENT
END:VCALENDAR