 BEGIN:VCALENDAR
VERSION:1.0
PRODID:SSPCA Web Calendar
TZ:-07
BEGIN:VEVENT
ORGANIZER:MAILTO: expo@bearingfair.com.cn
SUMMARY;ENCODING=QUOTED-PRINTABLE: Bearing 2018 - 2018 China International Bearing Industry Exhibition
LOCATION;ENCODING=QUOTED-PRINTABLE: Shanghai
DESCRIPTION;ENCODING=QUOTED-PRINTABLE: More Details£º=0D=0A
DTSTART:20180919T000000Z 
DTEND:20180922T000000Z 
END:VEVENT
END:VCALENDAR