 BEGIN:VCALENDAR
VERSION:1.0
PRODID:SSPCA Web Calendar
TZ:-07
BEGIN:VEVENT
ORGANIZER:MAILTO: info@lps-china.com
SUMMARY;ENCODING=QUOTED-PRINTABLE: LPS Guangzhou 2018 - The 17th Luxury Properties Showcase Guangzhou 2018
LOCATION;ENCODING=QUOTED-PRINTABLE: Guangzhou
DESCRIPTION;ENCODING=QUOTED-PRINTABLE: More Details£º=0D=0A
DTSTART:20180901T000000Z 
DTEND:20180901T000000Z 
END:VEVENT
END:VCALENDAR