 BEGIN:VCALENDAR
VERSION:1.0
PRODID:SSPCA Web Calendar
TZ:-07
BEGIN:VEVENT
ORGANIZER:MAILTO: Ms. SHAO Jennifer
SUMMARY;ENCODING=QUOTED-PRINTABLE: VIV China 2018
LOCATION;ENCODING=QUOTED-PRINTABLE: Nanjing
DESCRIPTION;ENCODING=QUOTED-PRINTABLE: More Details£º=0D=0Ahttp://www.chinaexhibition.com/trade_events/9389-VIV_China_2018.html
DTSTART:20180917T000000Z 
DTEND:20180919T000000Z 
END:VEVENT
END:VCALENDAR