 BEGIN:VCALENDAR
VERSION:1.0
PRODID:SSPCA Web Calendar
TZ:-07
BEGIN:VEVENT
ORGANIZER:MAILTO: jeremy.he@mm-sh.com
SUMMARY;ENCODING=QUOTED-PRINTABLE: Fresh Food Asia 2018
LOCATION;ENCODING=QUOTED-PRINTABLE: Shanghai
DESCRIPTION;ENCODING=QUOTED-PRINTABLE: More Details£º=0D=0Ahttp://www.chinaexhibition.com/trade_events/9340-Fresh_Food_Asia_2018.html
DTSTART:20180516T000000Z 
DTEND:20180518T000000Z 
END:VEVENT
END:VCALENDAR