 BEGIN:VCALENDAR
VERSION:1.0
PRODID:SSPCA Web Calendar
TZ:-07
BEGIN:VEVENT
ORGANIZER:MAILTO: tradevisitors@163.com
SUMMARY;ENCODING=QUOTED-PRINTABLE: AIRSHOW CHINA 2018 - China International Aviation & Aerospace Exhibition 2018
LOCATION;ENCODING=QUOTED-PRINTABLE: Zhuhai
DESCRIPTION;ENCODING=QUOTED-PRINTABLE: More Details£º=0D=0A
DTSTART:20181106T000000Z 
DTEND:20181111T000000Z 
END:VEVENT
END:VCALENDAR