 BEGIN:VCALENDAR
VERSION:1.0
PRODID:SSPCA Web Calendar
TZ:-07
BEGIN:VEVENT
ORGANIZER:MAILTO: amy@bitlifesciences.com
SUMMARY;ENCODING=QUOTED-PRINTABLE: CQW 2017 - BIT's 1st Annual Conference of Quantum World 2017
LOCATION;ENCODING=QUOTED-PRINTABLE: Changsha
DESCRIPTION;ENCODING=QUOTED-PRINTABLE: More Details£º=0D=0A
DTSTART:20171016T000000Z 
DTEND:20171018T000000Z 
END:VEVENT
END:VCALENDAR