 BEGIN:VCALENDAR
VERSION:1.0
PRODID:SSPCA Web Calendar
TZ:-07
BEGIN:VEVENT
ORGANIZER:MAILTO: chinavmf@yeah.net;grand.ev@grahw.com
SUMMARY;ENCODING=QUOTED-PRINTABLE: ChinaVMF 2017 - China International Vending Machines & Self-service Facilities Fair 2017
LOCATION;ENCODING=QUOTED-PRINTABLE: Guangzhou
DESCRIPTION;ENCODING=QUOTED-PRINTABLE: More Details£º=0D=0A
DTSTART:20170301T000000Z 
DTEND:20170303T000000Z 
END:VEVENT
END:VCALENDAR