 BEGIN:VCALENDAR
VERSION:1.0
PRODID:SSPCA Web Calendar
TZ:-07
BEGIN:VEVENT
ORGANIZER:MAILTO: designinspire@hktdc.org;
SUMMARY;ENCODING=QUOTED-PRINTABLE: DesignInspire 2017
LOCATION;ENCODING=QUOTED-PRINTABLE: Hong Kong
DESCRIPTION;ENCODING=QUOTED-PRINTABLE: More Details£º=0D=0Ahttp://www.chinaexhibition.com/trade_events/9073-DesignInspire_2017.html
DTSTART:20171207T000000Z 
DTEND:20171209T000000Z 
END:VEVENT
END:VCALENDAR