 BEGIN:VCALENDAR
VERSION:1.0
PRODID:SSPCA Web Calendar
TZ:-07
BEGIN:VEVENT
ORGANIZER:MAILTO: gzchy2009@163.com
SUMMARY;ENCODING=QUOTED-PRINTABLE: CITS 2017 - 2017 China (Guangzhou) International Tent Show
LOCATION;ENCODING=QUOTED-PRINTABLE: Guangzhou
DESCRIPTION;ENCODING=QUOTED-PRINTABLE: More Details£º=0D=0A
DTSTART:20170512T000000Z 
DTEND:20170514T000000Z 
END:VEVENT
END:VCALENDAR