 BEGIN:VCALENDAR
VERSION:1.0
PRODID:SSPCA Web Calendar
TZ:-07
BEGIN:VEVENT
ORGANIZER:MAILTO: winnie0516@hotmail.com
SUMMARY;ENCODING=QUOTED-PRINTABLE: Rooftile China 2017 - The 6th China Rooftile & Technology Exhibition 2017
LOCATION;ENCODING=QUOTED-PRINTABLE: Guangzhou
DESCRIPTION;ENCODING=QUOTED-PRINTABLE: More Details£º=0D=0A
DTSTART:20170512T000000Z 
DTEND:20170514T000000Z 
END:VEVENT
END:VCALENDAR