 BEGIN:VCALENDAR
VERSION:1.0
PRODID:SSPCA Web Calendar
TZ:-07
BEGIN:VEVENT
ORGANIZER:MAILTO: 13524321255@139.com; linsen135@vip.126.com
SUMMARY;ENCODING=QUOTED-PRINTABLE: CSFE 2017 - 2017 China (Shanghai) International Foundry Expo
LOCATION;ENCODING=QUOTED-PRINTABLE: Shanghai
DESCRIPTION;ENCODING=QUOTED-PRINTABLE: More Details£º=0D=0A
DTSTART:20171120T000000Z 
DTEND:20171122T000000Z 
END:VEVENT
END:VCALENDAR