 BEGIN:VCALENDAR
VERSION:1.0
PRODID:SSPCA Web Calendar
TZ:-07
BEGIN:VEVENT
ORGANIZER:MAILTO: info@newayfairs.com
SUMMARY;ENCODING=QUOTED-PRINTABLE: HKIEE 2017 - The 22nd Hong Kong International Education Expo
LOCATION;ENCODING=QUOTED-PRINTABLE: Hong Kong
DESCRIPTION;ENCODING=QUOTED-PRINTABLE: More Details£º=0D=0A
DTSTART:20170513T000000Z 
DTEND:20170514T000000Z 
END:VEVENT
END:VCALENDAR