 BEGIN:VCALENDAR
VERSION:1.0
PRODID:SSPCA Web Calendar
TZ:-07
BEGIN:VEVENT
ORGANIZER:MAILTO: jiangxl@hardware-fair.com
SUMMARY;ENCODING=QUOTED-PRINTABLE: The 14th China Int'l Hardware & Electrical Appliances Trade Fair 2017
LOCATION;ENCODING=QUOTED-PRINTABLE: Yongkang
DESCRIPTION;ENCODING=QUOTED-PRINTABLE: More Details£º=0D=0A
DTSTART:20170508T000000Z 
DTEND:20170510T000000Z 
END:VEVENT
END:VCALENDAR