 BEGIN:VCALENDAR
VERSION:1.0
PRODID:SSPCA Web Calendar
TZ:-07
BEGIN:VEVENT
ORGANIZER:MAILTO: Selina.li@reedexpo.com.cn
SUMMARY;ENCODING=QUOTED-PRINTABLE: Packcon 2017 - China Packaging Container Expo 2017
LOCATION;ENCODING=QUOTED-PRINTABLE: Shanghai
DESCRIPTION;ENCODING=QUOTED-PRINTABLE: More Details£º=0D=0A
DTSTART:20170411T000000Z 
DTEND:20170414T000000Z 
END:VEVENT
END:VCALENDAR