 BEGIN:VCALENDAR
VERSION:1.0
PRODID:SSPCA Web Calendar
TZ:-07
BEGIN:VEVENT
ORGANIZER:MAILTO: grand2@grahw.com;maelaw@163.com
SUMMARY;ENCODING=QUOTED-PRINTABLE: GMF 2017 - The 9th Guangzhou International Garden Machinery Fair 2017
LOCATION;ENCODING=QUOTED-PRINTABLE: Guangzhou
DESCRIPTION;ENCODING=QUOTED-PRINTABLE: More Details£º=0D=0A
DTSTART:20170313T000000Z 
DTEND:20170315T000000Z 
END:VEVENT
END:VCALENDAR