 BEGIN:VCALENDAR
VERSION:1.0
PRODID:SSPCA Web Calendar
TZ:-07
BEGIN:VEVENT
ORGANIZER:MAILTO: 2001@foro.cn
SUMMARY;ENCODING=QUOTED-PRINTABLE: CGIFE 2016 - The 32nd China (Guangzhou) International Franchise Exhibition
LOCATION;ENCODING=QUOTED-PRINTABLE: Guangzhou
DESCRIPTION;ENCODING=QUOTED-PRINTABLE: More Details£º=0D=0A
DTSTART:20160225T000000Z 
DTEND:20160227T000000Z 
END:VEVENT
END:VCALENDAR