 BEGIN:VCALENDAR
VERSION:1.0
PRODID:SSPCA Web Calendar
TZ:-07
BEGIN:VEVENT
ORGANIZER:MAILTO: grand.ti@grahw.com;grand.fi@grahw.com
SUMMARY;ENCODING=QUOTED-PRINTABLE: CIAE 2017 - The 13th China (Guangzhou) International Game & Amusement Exhibition
LOCATION;ENCODING=QUOTED-PRINTABLE: Guangzhou
DESCRIPTION;ENCODING=QUOTED-PRINTABLE: More Details£º=0D=0A
DTSTART:20170308T000000Z 
DTEND:20170311T000000Z 
END:VEVENT
END:VCALENDAR