 BEGIN:VCALENDAR
VERSION:1.0
PRODID:SSPCA Web Calendar
TZ:-07
BEGIN:VEVENT
ORGANIZER:MAILTO: exhibitions@hktdc.org
SUMMARY;ENCODING=QUOTED-PRINTABLE: The 34th HKTDC Hong Kong International Jewellery Show 2017
LOCATION;ENCODING=QUOTED-PRINTABLE: Hong Kong
DESCRIPTION;ENCODING=QUOTED-PRINTABLE: More Details£º=0D=0A
DTSTART:20170302T000000Z 
DTEND:20170306T000000Z 
END:VEVENT
END:VCALENDAR