 BEGIN:VCALENDAR
VERSION:1.0
PRODID:SSPCA Web Calendar
TZ:-07
BEGIN:VEVENT
ORGANIZER:MAILTO: zw-zhj@zhenweiexpo.com
SUMMARY;ENCODING=QUOTED-PRINTABLE: CIRE 2017 - The 6th China (Tianjin) International Industry Robotic Exhibition
LOCATION;ENCODING=QUOTED-PRINTABLE: Tianjin
DESCRIPTION;ENCODING=QUOTED-PRINTABLE: More Details£º=0D=0A
DTSTART:20170309T000000Z 
DTEND:20170312T000000Z 
END:VEVENT
END:VCALENDAR