 BEGIN:VCALENDAR
VERSION:1.0
PRODID:SSPCA Web Calendar
TZ:-07
BEGIN:VEVENT
ORGANIZER:MAILTO: service@cceecexpo.org
SUMMARY;ENCODING=QUOTED-PRINTABLE: CEEC Expo 2016 - The 2nd China-CEEC Investment and Trade Expo 2016
LOCATION;ENCODING=QUOTED-PRINTABLE: Ningbo
DESCRIPTION;ENCODING=QUOTED-PRINTABLE: More Details£º=0D=0A
DTSTART:20160608T000000Z 
DTEND:20160612T000000Z 
END:VEVENT
END:VCALENDAR