 BEGIN:VCALENDAR
VERSION:1.0
PRODID:SSPCA Web Calendar
TZ:-07
BEGIN:VEVENT
ORGANIZER:MAILTO: fair1@cicgf.com
SUMMARY;ENCODING=QUOTED-PRINTABLE: CICGF 2016 - The 15th China International Consumer Goods Fair
LOCATION;ENCODING=QUOTED-PRINTABLE: Ningbo
DESCRIPTION;ENCODING=QUOTED-PRINTABLE: More Details£º=0D=0A
DTSTART:20160609T000000Z 
DTEND:20160612T000000Z 
END:VEVENT
END:VCALENDAR