 BEGIN:VCALENDAR
VERSION:1.0
PRODID:SSPCA Web Calendar
TZ:-07
BEGIN:VEVENT
ORGANIZER:MAILTO: polansky.lv@sh-green.cn
SUMMARY;ENCODING=QUOTED-PRINTABLE: The 6th Shanghai International Green Roof and Building Greening Technology Expo 2016
LOCATION;ENCODING=QUOTED-PRINTABLE: Shanghai
DESCRIPTION;ENCODING=QUOTED-PRINTABLE: More Details£º=0D=0A
DTSTART:20160601T000000Z 
DTEND:20160603T000000Z 
END:VEVENT
END:VCALENDAR