 BEGIN:VCALENDAR
VERSION:1.0
PRODID:SSPCA Web Calendar
TZ:-07
BEGIN:VEVENT
ORGANIZER:MAILTO: grand@grahw.com
SUMMARY;ENCODING=QUOTED-PRINTABLE: EHGS 2016 - 2016 Guangzhou International Ecological Home & Garden Show
LOCATION;ENCODING=QUOTED-PRINTABLE: Guangzhou
DESCRIPTION;ENCODING=QUOTED-PRINTABLE: More Details£º=0D=0A
DTSTART:20160318T000000Z 
DTEND:20160320T000000Z 
END:VEVENT
END:VCALENDAR