 BEGIN:VCALENDAR
VERSION:1.0
PRODID:SSPCA Web Calendar
TZ:-07
BEGIN:VEVENT
ORGANIZER:MAILTO: mei.sun@reedexpo.com.cn
SUMMARY;ENCODING=QUOTED-PRINTABLE: Packcon 2016 - China Packaging Container Expo 2016
LOCATION;ENCODING=QUOTED-PRINTABLE: Dongguan
DESCRIPTION;ENCODING=QUOTED-PRINTABLE: More Details£º=0D=0A
DTSTART:20160414T000000Z 
DTEND:20160416T000000Z 
END:VEVENT
END:VCALENDAR