 BEGIN:VCALENDAR
VERSION:1.0
PRODID:SSPCA Web Calendar
TZ:-07
BEGIN:VEVENT
ORGANIZER:MAILTO: sinsia.xing@reedexpo.com.cn
SUMMARY;ENCODING=QUOTED-PRINTABLE: SinoFoldingCarton 2016
LOCATION;ENCODING=QUOTED-PRINTABLE: Dongguan
DESCRIPTION;ENCODING=QUOTED-PRINTABLE: More Details£º=0D=0Ahttp://www.chinaexhibition.com/trade_events/8205-SinoFoldingCarton_2016.html
DTSTART:20160414T000000Z 
DTEND:20160416T000000Z 
END:VEVENT
END:VCALENDAR