 BEGIN:VCALENDAR
VERSION:1.0
PRODID:SSPCA Web Calendar
TZ:-07
BEGIN:VEVENT
ORGANIZER:MAILTO: wanggaole@phmacn.com
SUMMARY;ENCODING=QUOTED-PRINTABLE: CIPM (Autumm) 2015 - The 50th China International Pharmaceutical Machinery Exposition
LOCATION;ENCODING=QUOTED-PRINTABLE: Wuhan
DESCRIPTION;ENCODING=QUOTED-PRINTABLE: More Details£º=0D=0A
DTSTART:20151028T000000Z 
DTEND:20151031T000000Z 
END:VEVENT
END:VCALENDAR