 BEGIN:VCALENDAR
VERSION:1.0
PRODID:SSPCA Web Calendar
TZ:-07
BEGIN:VEVENT
ORGANIZER:MAILTO: TILS@taitra.org.tw
SUMMARY;ENCODING=QUOTED-PRINTABLE: TILS 2016 - Taiwan International Lighting Show 2016
LOCATION;ENCODING=QUOTED-PRINTABLE: Taipei
DESCRIPTION;ENCODING=QUOTED-PRINTABLE: More Details£º=0D=0A
DTSTART:20160413T000000Z 
DTEND:20160416T000000Z 
END:VEVENT
END:VCALENDAR