 BEGIN:VCALENDAR
VERSION:1.0
PRODID:SSPCA Web Calendar
TZ:-07
BEGIN:VEVENT
ORGANIZER:MAILTO: istel@adventi.com.cn
SUMMARY;ENCODING=QUOTED-PRINTABLE: Luxe Pack Shanghai 2016
LOCATION;ENCODING=QUOTED-PRINTABLE: Shanghai
DESCRIPTION;ENCODING=QUOTED-PRINTABLE: More Details£º=0D=0Ahttp://www.chinaexhibition.com/trade_events/7843-Luxe_Pack_Shanghai_2016.html
DTSTART:20140413T000000Z 
DTEND:20150614T000000Z 
END:VEVENT
END:VCALENDAR