 BEGIN:VCALENDAR
VERSION:1.0
PRODID:SSPCA Web Calendar
TZ:-07
BEGIN:VEVENT
ORGANIZER:MAILTO: Lijiang@chinafish.cn
SUMMARY;ENCODING=QUOTED-PRINTABLE: China Fish 2016 - The 26th China International Fishing Tackle Trade Exhibition
LOCATION;ENCODING=QUOTED-PRINTABLE: Beijing
DESCRIPTION;ENCODING=QUOTED-PRINTABLE: More Details£º=0D=0A
DTSTART:20160218T000000Z 
DTEND:20160220T000000Z 
END:VEVENT
END:VCALENDAR