 BEGIN:VCALENDAR
VERSION:1.0
PRODID:SSPCA Web Calendar
TZ:-07
BEGIN:VEVENT
ORGANIZER:MAILTO: Alice@ChinaFastener.com
SUMMARY;ENCODING=QUOTED-PRINTABLE: 2015 Fastener Expo Guangzhou
LOCATION;ENCODING=QUOTED-PRINTABLE: Guangzhou
DESCRIPTION;ENCODING=QUOTED-PRINTABLE: More Details£º=0D=0Ahttp://www.chinaexhibition.com/trade_events/7792-2015_Fastener_Expo_Guangzhou.html
DTSTART:20151101T000000Z 
DTEND:20151103T000000Z 
END:VEVENT
END:VCALENDAR